BEGIN:VCALENDAR
VERSION:2.0
PRODID:-//eventon.com NONSGML v1.0//EN
BEGIN:VEVENT
UID:69ed6c2d5632a
DTSTAMP:20260425T213645
DTSTART:20270106T230000Z
DTEND:20270107T035000Z
LOCATION:Awakening House of Prayer 12950 W State Rd 84
SUMMARY:Gen Z& Millennials Connect Group
DESCRIPTION: Gen Z& Millennials Connect Group
END:VEVENT
END:VCALENDAR