BEGIN:VCALENDAR
VERSION:2.0
PRODID:-//eventon.com NONSGML v1.0//EN
BEGIN:VEVENT
UID:69ed20b06c8bc
DTSTAMP:20260425T161440
DTSTART:20261216T230000Z
DTEND:20261217T035000Z
LOCATION:Awakening House of Prayer 12950 W State Rd 84
SUMMARY:Gen Z& Millennials Connect Group
DESCRIPTION: Gen Z& Millennials Connect Group
END:VEVENT
END:VCALENDAR