BEGIN:VCALENDAR
VERSION:2.0
PRODID:-//eventon.com NONSGML v1.0//EN
BEGIN:VEVENT
UID:69ea62f6dac98
DTSTAMP:20260423T142038
DTSTART:20261007T230000Z
DTEND:20261008T035000Z
LOCATION:Awakening House of Prayer 12950 W State Rd 84
SUMMARY:Gen Z& Millennials Connect Group
DESCRIPTION: Gen Z& Millennials Connect Group
END:VEVENT
END:VCALENDAR