BEGIN:VCALENDAR
VERSION:2.0
PRODID:-//eventon.com NONSGML v1.0//EN
BEGIN:VEVENT
UID:69e9ef8206795
DTSTAMP:20260423T060802
DTSTART:20250528T230000Z
DTEND:20250529T035000Z
LOCATION:Awakening House of Prayer 12950 W State Rd 84
SUMMARY:Gen Z& Millennials Connect Group
DESCRIPTION: Gen Z& Millennials Connect Group
END:VEVENT
END:VCALENDAR