BEGIN:VCALENDAR
VERSION:2.0
PRODID:-//eventon.com NONSGML v1.0//EN
BEGIN:VEVENT
UID:69eac1b324e4d
DTSTAMP:20260423T210451
DTSTART:20261120T160000Z
DTEND:20261120T210000Z
LOCATION:Awakening House of Prayer 12950 W State Rd 84
SUMMARY:Prayer Room
DESCRIPTION: Prayer Room
END:VEVENT
END:VCALENDAR