BEGIN:VCALENDAR
VERSION:2.0
PRODID:-//eventon.com NONSGML v1.0//EN
BEGIN:VEVENT
UID:69ece14e2360e
DTSTAMP:20260425T114414
DTSTART:20270514T160000Z
DTEND:20270514T210000Z
LOCATION:Awakening House of Prayer 12950 W State Rd 84
SUMMARY:Prayer Room
DESCRIPTION: Prayer Room
END:VEVENT
END:VCALENDAR