BEGIN:VCALENDAR
VERSION:2.0
PRODID:-//eventon.com NONSGML v1.0//EN
BEGIN:VEVENT
UID:69ecb2a8c0649
DTSTAMP:20260425T082512
DTSTART:20270430T160000Z
DTEND:20270430T210000Z
LOCATION:Awakening House of Prayer 12950 W State Rd 84
SUMMARY:Prayer Room
DESCRIPTION: Prayer Room
END:VEVENT
END:VCALENDAR