BEGIN:VCALENDAR
VERSION:2.0
PRODID:-//eventon.com NONSGML v1.0//EN
BEGIN:VEVENT
UID:69eb189e8ec8f
DTSTAMP:20260424T031542
DTSTART:20261223T160000Z
DTEND:20261223T210000Z
LOCATION:Awakening House of Prayer 12950 W State Rd 84
SUMMARY:Prayer Room
DESCRIPTION: Prayer Room
END:VEVENT
END:VCALENDAR