BEGIN:VCALENDAR
VERSION:2.0
PRODID:-//eventon.com NONSGML v1.0//EN
BEGIN:VEVENT
UID:69eb049191d7a
DTSTAMP:20260424T015009
DTSTART:20261216T160000Z
DTEND:20261216T210000Z
LOCATION:Awakening House of Prayer 12950 W State Rd 84
SUMMARY:Prayer Room
DESCRIPTION: Prayer Room
END:VEVENT
END:VCALENDAR