BEGIN:VCALENDAR
VERSION:2.0
PRODID:-//eventon.com NONSGML v1.0//EN
BEGIN:VEVENT
UID:69e77ee2dda3e
DTSTAMP:20260421T094258
DTSTART:20210813T000300Z
DTEND:20210813T000300Z
LOCATION:
SUMMARY:Commissioned (Evangelism Teams)
DESCRIPTION: Commissioned (Evangelism Teams)
END:VEVENT
END:VCALENDAR