BEGIN:VCALENDAR
VERSION:2.0
PRODID:-//eventon.com NONSGML v1.0//EN
BEGIN:VEVENT
UID:69ed22d9c60bc
DTSTAMP:20260425T162353
DTSTART:20270604T230000Z
DTEND:20270605T010000Z
LOCATION:Awakening House of Prayer 12950 W State Rd 84
SUMMARY:The War Room | Militant Worship & Intercession
DESCRIPTION: The War Room | Militant Worship & Intercession
END:VEVENT
END:VCALENDAR