BEGIN:VCALENDAR
VERSION:2.0
PRODID:-//eventon.com NONSGML v1.0//EN
BEGIN:VEVENT
UID:69eb9662eefa3
DTSTAMP:20260424T121218
DTSTART:20270129T230000Z
DTEND:20270130T010000Z
LOCATION:Awakening House of Prayer 12950 W State Rd 84
SUMMARY:The War Room | Militant Worship & Intercession
DESCRIPTION: The War Room | Militant Worship & Intercession
END:VEVENT
END:VCALENDAR