BEGIN:VCALENDAR
VERSION:2.0
PRODID:-//eventon.com NONSGML v1.0//EN
BEGIN:VEVENT
UID:69eb2bbeb5534
DTSTAMP:20260424T043718
DTSTART:20261225T230000Z
DTEND:20261226T010000Z
LOCATION:Awakening House of Prayer 12950 W State Rd 84
SUMMARY:The War Room | Militant Worship & Intercession
DESCRIPTION: The War Room | Militant Worship & Intercession
END:VEVENT
END:VCALENDAR