BEGIN:VCALENDAR
VERSION:2.0
PRODID:-//eventon.com NONSGML v1.0//EN
BEGIN:VEVENT
UID:69eaf88f024ce
DTSTAMP:20260424T005855
DTSTART:20261204T230000Z
DTEND:20261205T010000Z
LOCATION:Awakening House of Prayer 12950 W State Rd 84
SUMMARY:The War Room | Militant Worship & Intercession
DESCRIPTION: The War Room | Militant Worship & Intercession
END:VEVENT
END:VCALENDAR