BEGIN:VCALENDAR
VERSION:2.0
PRODID:-//eventon.com NONSGML v1.0//EN
BEGIN:VEVENT
UID:69ea24019c16d
DTSTAMP:20260423T095201
DTSTART:20260918T230000Z
DTEND:20260919T010000Z
LOCATION:Awakening House of Prayer 12950 W State Rd 84
SUMMARY:The War Room | Militant Worship & Intercession
DESCRIPTION: The War Room | Militant Worship & Intercession
END:VEVENT
END:VCALENDAR