BEGIN:VCALENDAR
VERSION:2.0
PRODID:-//eventon.com NONSGML v1.0//EN
BEGIN:VEVENT
UID:69eb5760d9906
DTSTAMP:20260424T074328
DTSTART:20270117T194700Z
DTEND:20270118T035000Z
LOCATION:Awakening House of Prayer 12950 W State Rd 84
SUMMARY:Warfare School
DESCRIPTION: Warfare School
END:VEVENT
END:VCALENDAR