BEGIN:VCALENDAR
VERSION:2.0
PRODID:-//eventon.com NONSGML v1.0//EN
BEGIN:VEVENT
UID:69ea7f861cdaa
DTSTAMP:20260423T162230
DTSTART:20261101T194700Z
DTEND:20261102T035000Z
LOCATION:Awakening House of Prayer 12950 W State Rd 84
SUMMARY:Warfare School
DESCRIPTION: Warfare School
END:VEVENT
END:VCALENDAR