BEGIN:VCALENDAR
VERSION:2.0
PRODID:-//eventon.com NONSGML v1.0//EN
BEGIN:VEVENT
UID:69ea6d9cb1d86
DTSTAMP:20260423T150604
DTSTART:20261025T194700Z
DTEND:20261026T035000Z
LOCATION:Awakening House of Prayer 12950 W State Rd 84
SUMMARY:Warfare School
DESCRIPTION: Warfare School
END:VEVENT
END:VCALENDAR