BEGIN:VCALENDAR
VERSION:2.0
PRODID:-//eventon.com NONSGML v1.0//EN
BEGIN:VEVENT
UID:69ea1b40e88a4
DTSTAMP:20260423T091440
DTSTART:20260927T194700Z
DTEND:20260928T035000Z
LOCATION:Awakening House of Prayer 12950 W State Rd 84
SUMMARY:Warfare School
DESCRIPTION: Warfare School
END:VEVENT
END:VCALENDAR