BEGIN:VCALENDAR
VERSION:2.0
PRODID:-//eventon.com NONSGML v1.0//EN
BEGIN:VEVENT
UID:69ec9b1f9ff61
DTSTAMP:20260425T064447
DTSTART:20270502T194700Z
DTEND:20270503T035000Z
LOCATION:Awakening House of Prayer 12950 W State Rd 84
SUMMARY:Warfare School
DESCRIPTION: Warfare School
END:VEVENT
END:VCALENDAR