BEGIN:VCALENDAR
VERSION:2.0
PRODID:-//eventon.com NONSGML v1.0//EN
BEGIN:VEVENT
UID:69ed7ccdc9525
DTSTAMP:20260425T224741
DTSTART:20261220T174700Z
DTEND:20261221T035000Z
LOCATION:Awakening House of Prayer 12950 W State Rd 84
SUMMARY:Next-Level Intensive
DESCRIPTION: Next-Level Intensive
END:VEVENT
END:VCALENDAR