BEGIN:VCALENDAR
VERSION:2.0
PRODID:-//eventon.com NONSGML v1.0//EN
BEGIN:VEVENT
UID:69ed6049022cc
DTSTAMP:20260425T204601
DTSTART:20261213T174700Z
DTEND:20261214T035000Z
LOCATION:Awakening House of Prayer 12950 W State Rd 84
SUMMARY:Next-Level Intensive
DESCRIPTION: Next-Level Intensive
END:VEVENT
END:VCALENDAR