BEGIN:VCALENDAR
VERSION:2.0
PRODID:-//eventon.com NONSGML v1.0//EN
BEGIN:VEVENT
UID:69ed152e02a56
DTSTAMP:20260425T152534
DTSTART:20261122T174700Z
DTEND:20261123T035000Z
LOCATION:Awakening House of Prayer 12950 W State Rd 84
SUMMARY:Next-Level Intensive
DESCRIPTION: Next-Level Intensive
END:VEVENT
END:VCALENDAR