BEGIN:VCALENDAR
VERSION:2.0
PRODID:-//eventon.com NONSGML v1.0//EN
BEGIN:VEVENT
UID:69ecd349558fa
DTSTAMP:20260425T104425
DTSTART:20261101T174700Z
DTEND:20261102T035000Z
LOCATION:Awakening House of Prayer 12950 W State Rd 84
SUMMARY:Next-Level Intensive
DESCRIPTION: Next-Level Intensive
END:VEVENT
END:VCALENDAR