BEGIN:VCALENDAR
VERSION:2.0
PRODID:-//eventon.com NONSGML v1.0//EN
BEGIN:VEVENT
UID:69ea1c2e939b4
DTSTAMP:20260423T091838
DTSTART:20260927T174700Z
DTEND:20260928T035000Z
LOCATION:Awakening House of Prayer 12950 W State Rd 84
SUMMARY:Next-Level Intensive
DESCRIPTION: Next-Level Intensive
END:VEVENT
END:VCALENDAR