BEGIN:VCALENDAR
VERSION:2.0
PRODID:-//eventon.com NONSGML v1.0//EN
BEGIN:VEVENT
UID:69eb3bc93a6ce
DTSTAMP:20260424T054545
DTSTART:20261206T144700Z
DTEND:20261207T035000Z
LOCATION:Awakening House of Prayer 12950 W State Rd 84
SUMMARY:Sunday Assembly
DESCRIPTION: Sunday Assembly
END:VEVENT
END:VCALENDAR