BEGIN:VCALENDAR
VERSION:2.0
PRODID:-//eventon.com NONSGML v1.0//EN
BEGIN:VEVENT
UID:69e887a78e021
DTSTAMP:20260422T043239
DTSTART:20261129T144700Z
DTEND:20261130T035000Z
LOCATION:Awakening House of Prayer 12950 W State Rd 84
SUMMARY:Sunday Assembly
DESCRIPTION: Sunday Assembly
END:VEVENT
END:VCALENDAR