BEGIN:VCALENDAR
VERSION:2.0
PRODID:-//eventon.com NONSGML v1.0//EN
BEGIN:VEVENT
UID:69e549e79d9e8
DTSTAMP:20260419T173223
DTSTART:20261018T144700Z
DTEND:20261019T035000Z
LOCATION:Awakening House of Prayer 12950 W State Rd 84
SUMMARY:Sunday Assembly
DESCRIPTION: Sunday Assembly
END:VEVENT
END:VCALENDAR