BEGIN:VCALENDAR
VERSION:2.0
PRODID:-//eventon.com NONSGML v1.0//EN
BEGIN:VEVENT
UID:69e5165c07bc5
DTSTAMP:20260419T135228
DTSTART:20261004T144700Z
DTEND:20261005T035000Z
LOCATION:Awakening House of Prayer 12950 W State Rd 84
SUMMARY:Sunday Assembly
DESCRIPTION: Sunday Assembly
END:VEVENT
END:VCALENDAR