BEGIN:VCALENDAR
VERSION:2.0
PRODID:-//eventon.com NONSGML v1.0//EN
BEGIN:VEVENT
UID:69e4e79e23f0d
DTSTAMP:20260419T103302
DTSTART:20260920T144700Z
DTEND:20260921T035000Z
LOCATION:Awakening House of Prayer 12950 W State Rd 84
SUMMARY:Sunday Assembly
DESCRIPTION: Sunday Assembly
END:VEVENT
END:VCALENDAR