BEGIN:VCALENDAR
VERSION:2.0
PRODID:-//eventon.com NONSGML v1.0//EN
BEGIN:VEVENT
UID:69e6af613d9c7
DTSTAMP:20260420T185737
DTSTART:20211017T140000Z
DTEND:20211017T143000Z
LOCATION:Awakening House of Prayer 12950 W State Rd 84
SUMMARY:Pre Service Intercession
DESCRIPTION: Pre Service Intercession
END:VEVENT
END:VCALENDAR