BEGIN:VCALENDAR
VERSION:2.0
PRODID:-//eventon.com NONSGML v1.0//EN
BEGIN:VEVENT
UID:69eb1d6cecf43
DTSTAMP:20260424T033612
DTSTART:20261129T140000Z
DTEND:20261129T143000Z
LOCATION:Awakening House of Prayer 12950 W State Rd 84
SUMMARY:Pre Service Intercession
DESCRIPTION: Pre Service Intercession
END:VEVENT
END:VCALENDAR