BEGIN:VCALENDAR
VERSION:2.0
PRODID:-//eventon.com NONSGML v1.0//EN
BEGIN:VEVENT
UID:69eb084c14cf4
DTSTAMP:20260424T020604
DTSTART:20261122T140000Z
DTEND:20261122T143000Z
LOCATION:Awakening House of Prayer 12950 W State Rd 84
SUMMARY:Pre Service Intercession
DESCRIPTION: Pre Service Intercession
END:VEVENT
END:VCALENDAR