BEGIN:VCALENDAR
VERSION:2.0
PRODID:-//eventon.com NONSGML v1.0//EN
BEGIN:VEVENT
UID:69eabe0445f5f
DTSTAMP:20260423T204908
DTSTART:20261025T140000Z
DTEND:20261025T143000Z
LOCATION:Awakening House of Prayer 12950 W State Rd 84
SUMMARY:Pre Service Intercession
DESCRIPTION: Pre Service Intercession
END:VEVENT
END:VCALENDAR