BEGIN:VCALENDAR
VERSION:2.0
PRODID:-//eventon.com NONSGML v1.0//EN
BEGIN:VEVENT
UID:69ea35e9e0d10
DTSTAMP:20260423T110825
DTSTART:20260927T140000Z
DTEND:20260927T143000Z
LOCATION:Awakening House of Prayer 12950 W State Rd 84
SUMMARY:Pre Service Intercession
DESCRIPTION: Pre Service Intercession
END:VEVENT
END:VCALENDAR